BEGIN:VCALENDAR
VERSION:2.0
PRODID:-//ZContent.net//ZapCalLib 1.0//EN
CALSCALE:GREGORIAN
METHOD:PUBLISH
BEGIN:VEVENT
SUMMARY:BÖLL-Montagskino „Transilvania mea – von Gewinnern und Verlier
 ern“
DTSTART:20200831T190000
DTEND:20200831T210000
UID:2026-04-23-21-00-42-0-@calendar.boell.de
DTSTAMP:20260423T190042
DESCRIPTION:▶ Siehe Veranstaltungsbeschreibung – Rostock – Landesstif
 tung Mecklenburg-Vorpommern
END:VEVENT
END:VCALENDAR
