BEGIN:VCALENDAR
VERSION:2.0
PRODID:-//ZContent.net//ZapCalLib 1.0//EN
CALSCALE:GREGORIAN
METHOD:PUBLISH
BEGIN:VEVENT
SUMMARY:Barcamp: 360° politische Bildung in M-V
DTSTART:20200915T090000
DTEND:20200915T160000
UID:2026-04-24-01-39-18-0-@calendar.boell.de
DTSTAMP:20260423T233918
DESCRIPTION:▶ Siehe Veranstaltungsbeschreibung – 
END:VEVENT
END:VCALENDAR
