BEGIN:VCALENDAR
VERSION:2.0
PRODID:-//ZContent.net//ZapCalLib 1.0//EN
CALSCALE:GREGORIAN
METHOD:PUBLISH
BEGIN:VEVENT
SUMMARY:20. Informatica Feminale Baden-Württemberg  | Sommerhochschule
DTSTART:20200922T100000
DTEND:20200926T150000
UID:2026-04-26-04-41-28-0-@calendar.boell.de
DTSTAMP:20260426T024128
DESCRIPTION:▶ Siehe Veranstaltungsbeschreibung – Deutschland – Extern
 e Veranstaltung
END:VEVENT
END:VCALENDAR
