BEGIN:VCALENDAR
VERSION:2.0
PRODID:-//ZContent.net//ZapCalLib 1.0//EN
CALSCALE:GREGORIAN
METHOD:PUBLISH
BEGIN:VEVENT
SUMMARY: Wer ist für Datensicherheit verantwortlich? Frauen, Cybersicherhe
 it & Home-Office | "Women Take on the Digital Divide" – 6-teilige Verans
 taltungsreihe zur digitalen Transformation - Teil 3
DTSTART:20200709T200000
DTEND:20200709T213000
UID:2026-04-22-12-22-56-0-@calendar.boell.de
DTSTAMP:20260422T102256
DESCRIPTION:▶ Online-Veranstaltung – Gunda-Werner-Institut für Feminis
 mus und Geschlechterdemokratie
END:VEVENT
END:VCALENDAR
