BEGIN:VCALENDAR
VERSION:2.0
PRODID:-//ZContent.net//ZapCalLib 1.0//EN
CALSCALE:GREGORIAN
METHOD:PUBLISH
BEGIN:VEVENT
SUMMARY:Le nouveau Pacte européen sur les migrations et l’asile : quels 
 enjeux pour la présidence allemande de l’Union européenne ?  | 
DTSTART:20200630T180000
DTEND:20200630T193000
UID:2021-12-02-04-29-47-0-@calendar.boell.de
DTSTAMP:20211202T032947
DESCRIPTION:▶ Online-Veranstaltung – Heinrich-Böll-Stiftung Paris - Fr
 ankreich
END:VEVENT
END:VCALENDAR
