BEGIN:VCALENDAR
VERSION:2.0
PRODID:-//ZContent.net//ZapCalLib 1.0//EN
CALSCALE:GREGORIAN
METHOD:PUBLISH
BEGIN:VEVENT
SUMMARY:EINLEBEN – digitale Workshops für interessierte Lehrende und Mul
 tiplikator*innen  | EINLEBEN - Das webbasierte digitale Lern- und Erfahrun
 gsspiel 
DTSTART:20200725T100000
DTEND:20200725T143000
UID:2026-04-22-15-13-46-0-@calendar.boell.de
DTSTAMP:20260422T131346
DESCRIPTION:▶ Online-Veranstaltung – Stiftung Leben & Umwelt / Heinrich
 -Böll-Stiftung Niedersachsen
END:VEVENT
END:VCALENDAR
