BEGIN:VCALENDAR
VERSION:2.0
PRODID:-//ZContent.net//ZapCalLib 1.0//EN
CALSCALE:GREGORIAN
METHOD:PUBLISH
BEGIN:VEVENT
SUMMARY:Corona und die Einschränkung bürgerlicher Freiheiten |  Reihe Kri
 sengespräche: Corona, die multiple Krise
DTSTART:20200630T190000
DTEND:20200630T203000
UID:2026-04-22-03-02-19-0-@calendar.boell.de
DTSTAMP:20260422T010219
DESCRIPTION:▶ Online-Veranstaltung – Landesstiftung Hessen
END:VEVENT
END:VCALENDAR
