BEGIN:VCALENDAR
VERSION:2.0
PRODID:-//ZContent.net//ZapCalLib 1.0//EN
CALSCALE:GREGORIAN
METHOD:PUBLISH
BEGIN:VEVENT
SUMMARY:Online-Seminar: Wenn die Luft brennt: Rechte Klimaschutzkritik kont
 ern
DTSTART:20200709T180000
DTEND:20200709T200000
UID:2026-04-22-15-13-54-0-@calendar.boell.de
DTSTAMP:20260422T131354
DESCRIPTION:▶ Siehe Veranstaltungsbeschreibung – Landesstiftung Hessen
END:VEVENT
END:VCALENDAR
