BEGIN:VCALENDAR
VERSION:2.0
PRODID:-//ZContent.net//ZapCalLib 1.0//EN
CALSCALE:GREGORIAN
METHOD:PUBLISH
BEGIN:VEVENT
SUMMARY:Das bisschen Haushalt ... | Der doppische Haushalt als politisches 
 Gestaltungsinstrument
DTSTART:20200725T100000
DTEND:20200725T140000
UID:2026-04-22-23-07-44-0-@calendar.boell.de
DTSTAMP:20260422T210744
DESCRIPTION:▶ Online-Veranstaltung – Petra-Kelly-Stiftung
END:VEVENT
END:VCALENDAR
