BEGIN:VCALENDAR
VERSION:2.0
PRODID:-//ZContent.net//ZapCalLib 1.0//EN
CALSCALE:GREGORIAN
METHOD:PUBLISH
BEGIN:VEVENT
SUMMARY:Digitaler Feierabend-Talk mit Alexander Trennheuser | über die Bel
 ebung der Demokratie durch Bürgerräte
DTSTART:20200624T170000
DTEND:20200624T183000
UID:2026-04-22-15-13-40-0-@calendar.boell.de
DTSTAMP:20260422T131340
DESCRIPTION:▶ Siehe Veranstaltungsbeschreibung – Landesstiftung Nordrhe
 in-Westfalen
END:VEVENT
END:VCALENDAR
