BEGIN:VCALENDAR
VERSION:2.0
PRODID:-//ZContent.net//ZapCalLib 1.0//EN
CALSCALE:GREGORIAN
METHOD:PUBLISH
BEGIN:VEVENT
SUMMARY:Solidarische Beziehungsweisen (Videovortrag) | Ein Videoprojekt mit
  Bini Adamczak
DTSTART:20200701T140000
DTEND:20200730T170000
UID:2021-12-02-05-44-20-0-@calendar.boell.de
DTSTAMP:20211202T044420
DESCRIPTION:▶ Online-Veranstaltung – Landesstiftung Sachsen (Weiterdenk
 en)
END:VEVENT
END:VCALENDAR
