BEGIN:VCALENDAR
VERSION:2.0
PRODID:-//ZContent.net//ZapCalLib 1.0//EN
CALSCALE:GREGORIAN
METHOD:PUBLISH
BEGIN:VEVENT
SUMMARY:Online-Seminar Spezial: Agile Methoden verstehen (Warteliste) | 
DTSTART:20200707T140000
DTEND:20200707T163000
UID:2021-12-02-04-22-46-0-@calendar.boell.de
DTSTAMP:20211202T032246
DESCRIPTION:▶ Online-Veranstaltung – Berlin – GreenCampus
END:VEVENT
END:VCALENDAR
