BEGIN:VCALENDAR
VERSION:2.0
PRODID:-//ZContent.net//ZapCalLib 1.0//EN
CALSCALE:GREGORIAN
METHOD:PUBLISH
BEGIN:VEVENT
SUMMARY:„Die Morgendämmerung der Worte“ | Jugendliche der Roma-Minderh
 eit aus Sachsen vom Verein Romano Sumnal lesen Gedichte aus aller Welt
DTSTART:20201006T180000
DTEND:20201006T200000
UID:2021-12-02-04-35-41-0-@calendar.boell.de
DTSTAMP:20211202T033541
DESCRIPTION:▶ Siehe Veranstaltungsbeschreibung – Dresden – Landesstif
 tung Sachsen (Weiterdenken)
END:VEVENT
END:VCALENDAR
