BEGIN:VCALENDAR
VERSION:2.0
PRODID:-//ZContent.net//ZapCalLib 1.0//EN
CALSCALE:GREGORIAN
METHOD:PUBLISH
BEGIN:VEVENT
SUMMARY:Literatursommer 2020  | Liebe, Drogen und die irische Dreifaltigkei
 t - poetische Krimilesung (als Präsenz- und Onlineveranstaltung)
DTSTART:20200824T193000
DTEND:20200824T210000
UID:2026-04-23-05-59-37-0-@calendar.boell.de
DTSTAMP:20260423T035937
DESCRIPTION:Heinrich-Böll-Stiftung Schleswig-Holstein – Kiel – Landess
 tiftung Schleswig-Holstein
END:VEVENT
END:VCALENDAR
