BEGIN:VCALENDAR
VERSION:2.0
PRODID:-//ZContent.net//ZapCalLib 1.0//EN
CALSCALE:GREGORIAN
METHOD:PUBLISH
BEGIN:VEVENT
SUMMARY:Klasse Aussichten ?! - Warum unsere Gesellschaft Armut verachtet. |
  Workshop zu Klassismus
DTSTART:20200911T183000
DTEND:20200913T150000
UID:2021-12-02-04-34-45-0-@calendar.boell.de
DTSTAMP:20211202T033445
DESCRIPTION:▶ Siehe Veranstaltungsbeschreibung – Berlin – Landesstift
 ung Berlin (Bildungswerk)
END:VEVENT
END:VCALENDAR
