BEGIN:VCALENDAR
VERSION:2.0
PRODID:-//ZContent.net//ZapCalLib 1.0//EN
CALSCALE:GREGORIAN
METHOD:PUBLISH
BEGIN:VEVENT
SUMMARY:Spitzenkräfte - Porträts von Frauen in Führungspositionen | Onli
 ne-Lesung mit Marie-Luise Braun
DTSTART:20200702T200000
DTEND:20200702T213000
UID:2026-04-22-15-13-23-0-@calendar.boell.de
DTSTAMP:20260422T131323
DESCRIPTION:▶ Online-Veranstaltung – Stiftung Leben & Umwelt / Heinrich
 -Böll-Stiftung Niedersachsen
END:VEVENT
END:VCALENDAR
