BEGIN:VCALENDAR
VERSION:2.0
PRODID:-//ZContent.net//ZapCalLib 1.0//EN
CALSCALE:GREGORIAN
METHOD:PUBLISH
BEGIN:VEVENT
SUMMARY:Koloniale und sozialistische Spuren in der Gegenwart | Vortrag und 
 virtuelle Stadtführung
DTSTART:20200611T170000
DTEND:20200611T181500
UID:2021-12-02-05-40-57-0-@calendar.boell.de
DTSTAMP:20211202T044057
DESCRIPTION:▶ Online-Veranstaltung – Landesstiftung Brandenburg
END:VEVENT
END:VCALENDAR
