BEGIN:VCALENDAR
VERSION:2.0
PRODID:-//ZContent.net//ZapCalLib 1.0//EN
CALSCALE:GREGORIAN
METHOD:PUBLISH
BEGIN:VEVENT
SUMMARY:Multiplikator*innenworkshop: Bilder im Kontext | Fotografien in der
  politischen Bildungsarbeit
DTSTART:20200828T160000
DTEND:20200830T133000
UID:2026-04-24-00-35-26-0-@calendar.boell.de
DTSTAMP:20260423T223526
DESCRIPTION:▶ Siehe Veranstaltungsbeschreibung – Berlin – Landesstift
 ung Berlin (Bildungswerk)
END:VEVENT
END:VCALENDAR
