BEGIN:VCALENDAR
VERSION:2.0
PRODID:-//ZContent.net//ZapCalLib 1.0//EN
CALSCALE:GREGORIAN
METHOD:PUBLISH
BEGIN:VEVENT
SUMMARY:Live-Stream | Die doppelte Krise: Flüchtlingscamps und Seenotrettu
 ng | Vortrag und Gespräch zu solidarischen Handlungsmöglichkeiten
DTSTART:20200622T200000
DTEND:20200622T213000
UID:2026-04-22-09-49-25-0-@calendar.boell.de
DTSTAMP:20260422T074925
DESCRIPTION:▶ Online-Veranstaltung – 
END:VEVENT
END:VCALENDAR
