BEGIN:VCALENDAR
VERSION:2.0
PRODID:-//ZContent.net//ZapCalLib 1.0//EN
CALSCALE:GREGORIAN
METHOD:PUBLISH
BEGIN:VEVENT
SUMMARY:Anders Wirtschaften Jetzt! | 
DTSTART:20200611T163000
DTEND:20200611T180000
UID:2021-12-02-04-27-14-0-@calendar.boell.de
DTSTAMP:20211202T032714
DESCRIPTION:▶ Online-Veranstaltung – Heinrich-Böll-Stiftung - Bundesst
 iftung Berlin
END:VEVENT
END:VCALENDAR
