BEGIN:VCALENDAR
VERSION:2.0
PRODID:-//ZContent.net//ZapCalLib 1.0//EN
CALSCALE:GREGORIAN
METHOD:PUBLISH
BEGIN:VEVENT
SUMMARY:Wie grün ist die Zukunft? | Junge Stimmen für ein gerechtes Klima
  in Deutschland und Israel
DTSTART:20200609T170000
DTEND:20200609T183000
UID:2021-12-02-04-36-40-0-@calendar.boell.de
DTSTAMP:20211202T033640
DESCRIPTION:▶ Online-Veranstaltung – Heinrich-Böll-Stiftung - Bundesst
 iftung Berlin
END:VEVENT
END:VCALENDAR
