BEGIN:VCALENDAR
VERSION:2.0
PRODID:-//ZContent.net//ZapCalLib 1.0//EN
CALSCALE:GREGORIAN
METHOD:PUBLISH
BEGIN:VEVENT
SUMMARY:Ausgebucht! Online-Seminar: Online Moderieren
DTSTART:20200618T160000
DTEND:20200618T173000
UID:2026-04-24-11-48-18-0-@calendar.boell.de
DTSTAMP:20260424T094818
DESCRIPTION:▶ Online-Veranstaltung – Landesstiftung Mecklenburg-Vorpomm
 ern
END:VEVENT
END:VCALENDAR
