BEGIN:VCALENDAR
VERSION:2.0
PRODID:-//ZContent.net//ZapCalLib 1.0//EN
CALSCALE:GREGORIAN
METHOD:PUBLISH
BEGIN:VEVENT
SUMMARY:Mehr als ein Jahrzehnt Politik der „Östlichen Partnerschaft“: 
 Update, Upgrade oder nur Status Quo unter deutscher EU-Präsidentschaft?
DTSTART:20200608T180000
DTEND:20200608T193000
UID:2026-04-22-14-24-52-0-@calendar.boell.de
DTSTAMP:20260422T122452
DESCRIPTION:▶ Online-Veranstaltung – Heinrich-Böll-Stiftung - Bundesst
 iftung Berlin
END:VEVENT
END:VCALENDAR
