BEGIN:VCALENDAR
VERSION:2.0
PRODID:-//ZContent.net//ZapCalLib 1.0//EN
CALSCALE:GREGORIAN
METHOD:PUBLISH
BEGIN:VEVENT
SUMMARY:Der Energiehunger der Welt | Daten und Fakten über die Erneuerbare
 n Energien in Europa
DTSTART:20200602T180000
DTEND:20200602T193000
UID:2026-04-21-11-36-01-0-@calendar.boell.de
DTSTAMP:20260421T093601
DESCRIPTION:▶ Online-Veranstaltung – Landesstiftung Sachsen (Weiterdenk
 en)
END:VEVENT
END:VCALENDAR
