BEGIN:VCALENDAR
VERSION:2.0
PRODID:-//ZContent.net//ZapCalLib 1.0//EN
CALSCALE:GREGORIAN
METHOD:PUBLISH
BEGIN:VEVENT
SUMMARY:Umkämpftes Wohnen – Neue Solidarität in den Städten | Online-V
 eranstaltung
DTSTART:20200625T190000
DTEND:20200625T203000
UID:2021-12-02-04-34-49-0-@calendar.boell.de
DTSTAMP:20211202T033449
DESCRIPTION:▶ Siehe Veranstaltungsbeschreibung – Landesstiftung Berlin 
 (Bildungswerk)
END:VEVENT
END:VCALENDAR
