BEGIN:VCALENDAR
VERSION:2.0
PRODID:-//ZContent.net//ZapCalLib 1.0//EN
CALSCALE:GREGORIAN
METHOD:PUBLISH
BEGIN:VEVENT
SUMMARY:Wir sind das Haus. Ein Überblick: Hausprojekte in Berlin und Brand
 enburg | Online-Veranstaltung: Anders Leben - Anders Wohnen
DTSTART:20200630T180000
DTEND:20200630T193000
UID:2021-12-02-04-35-07-0-@calendar.boell.de
DTSTAMP:20211202T033507
DESCRIPTION:▶ Siehe Veranstaltungsbeschreibung – Landesstiftung Berlin 
 (Bildungswerk)
END:VEVENT
END:VCALENDAR
