BEGIN:VCALENDAR
VERSION:2.0
PRODID:-//ZContent.net//ZapCalLib 1.0//EN
CALSCALE:GREGORIAN
METHOD:PUBLISH
BEGIN:VEVENT
SUMMARY:Quo Vadis Sozialpolitik? | Live Online-Diskussion | Heute: Von Für
 sorgearbeit und Rentenansprüchen
DTSTART:20200707T200000
DTEND:20200707T213000
UID:2026-04-22-15-13-56-0-@calendar.boell.de
DTSTAMP:20260422T131356
DESCRIPTION:▶ Online-Veranstaltung – Stiftung Leben & Umwelt / Heinrich
 -Böll-Stiftung Niedersachsen
END:VEVENT
END:VCALENDAR
