BEGIN:VCALENDAR
VERSION:2.0
PRODID:-//ZContent.net//ZapCalLib 1.0//EN
CALSCALE:GREGORIAN
METHOD:PUBLISH
BEGIN:VEVENT
SUMMARY:Fachgespräch China | Wie abhängig ist die deutsche Wirtschaft vom
  Chinageschäft (wirklich)?
DTSTART:20200610T140000
DTEND:20200610T160000
UID:2026-04-25-03-30-01-0-@calendar.boell.de
DTSTAMP:20260425T013001
DESCRIPTION:▶ Online-Veranstaltung – Heinrich-Böll-Stiftung - Bundesst
 iftung Berlin
END:VEVENT
END:VCALENDAR
