BEGIN:VCALENDAR
VERSION:2.0
PRODID:-//ZContent.net//ZapCalLib 1.0//EN
CALSCALE:GREGORIAN
METHOD:PUBLISH
BEGIN:VEVENT
SUMMARY:"Ich find's ja wichtig - aber wie soll's gehen?" - Strategien und L
 ösungen für nachhaltige Mobilität | #2 Öffentlicher Verkehr: Wie geht 
 es dem Rückgrat der Verkehrswende? 
DTSTART:20200527T150000
DTEND:20200527T161500
UID:2026-04-23-19-52-54-0-@calendar.boell.de
DTSTAMP:20260423T175254
DESCRIPTION:▶ Online-Veranstaltung – Heinrich-Böll-Stiftung im Stiftun
 gsverbund
END:VEVENT
END:VCALENDAR
