BEGIN:VCALENDAR
VERSION:2.0
PRODID:-//ZContent.net//ZapCalLib 1.0//EN
CALSCALE:GREGORIAN
METHOD:PUBLISH
BEGIN:VEVENT
SUMMARY:Agrarpolitik – Bauern – Konsumenten?! | Online-Vortrag mit Date
 n und Fakten zur Agrarpolitik
DTSTART:20200519T180000
DTEND:20200519T190000
UID:2026-04-21-10-10-10-0-@calendar.boell.de
DTSTAMP:20260421T081010
DESCRIPTION:▶ Online-Veranstaltung – Landesstiftung Sachsen (Weiterdenk
 en)
END:VEVENT
END:VCALENDAR
