BEGIN:VCALENDAR
VERSION:2.0
PRODID:-//ZContent.net//ZapCalLib 1.0//EN
CALSCALE:GREGORIAN
METHOD:PUBLISH
BEGIN:VEVENT
SUMMARY:Umgang mit rechten Parolen
DTSTART:20200622T170000
DTEND:20200622T183000
UID:2026-04-22-06-43-29-0-@calendar.boell.de
DTSTAMP:20260422T044329
DESCRIPTION:▶ Siehe Veranstaltungsbeschreibung – Heinrich Böll Stiftun
 g Baden-Württemberg
END:VEVENT
BEGIN:VEVENT
SUMMARY:Umgang mit rechten Parolen
DTSTART:02020623T165328
DTEND:20200623T183000
UID:2026-04-22-04-43-29-1-@calendar.boell.de
DTSTAMP:20260422T044329
DESCRIPTION:▶ Siehe Veranstaltungsbeschreibung – Heinrich Böll Stiftun
 g Baden-Württemberg
END:VEVENT
BEGIN:VEVENT
SUMMARY:Umgang mit rechten Parolen
DTSTART:20200624T170000
DTEND:20200624T183000
UID:2026-04-22-04-43-29-2-@calendar.boell.de
DTSTAMP:20260422T044329
DESCRIPTION:▶ Siehe Veranstaltungsbeschreibung – Heinrich Böll Stiftun
 g Baden-Württemberg
END:VEVENT
END:VCALENDAR
