BEGIN:VCALENDAR
VERSION:2.0
PRODID:-//ZContent.net//ZapCalLib 1.0//EN
CALSCALE:GREGORIAN
METHOD:PUBLISH
BEGIN:VEVENT
SUMMARY:Online-Vortrag: Rechte Egoshooter | Von der virtuellen Hetze zum Li
 vestream-Attentat
DTSTART:20200526T190000
DTEND:20200526T203000
UID:2026-04-24-21-47-50-0-@calendar.boell.de
DTSTAMP:20260424T194750
DESCRIPTION:▶ Online-Veranstaltung – Heinrich Böll Stiftung Baden-Wür
 ttemberg
END:VEVENT
END:VCALENDAR
