BEGIN:VCALENDAR
VERSION:2.0
PRODID:-//ZContent.net//ZapCalLib 1.0//EN
CALSCALE:GREGORIAN
METHOD:PUBLISH
BEGIN:VEVENT
SUMMARY:Ausgebucht! Online-Seminar: Online Moderieren
DTSTART:20200513T103000
DTEND:20200513T120000
UID:2026-04-22-06-43-25-0-@calendar.boell.de
DTSTAMP:20260422T044325
DESCRIPTION:▶ Siehe Veranstaltungsbeschreibung – Landesstiftung Mecklen
 burg-Vorpommern
END:VEVENT
END:VCALENDAR
