BEGIN:VCALENDAR
VERSION:2.0
PRODID:-//ZContent.net//ZapCalLib 1.0//EN
CALSCALE:GREGORIAN
METHOD:PUBLISH
BEGIN:VEVENT
SUMMARY:Rückkehrberatung: Die schwierige Positionierung der zivilgesellsch
 aftlichen Akteur_innen | Aus unserer Reihe: Dahin, wo der Pfeffer wächst 
 ... 
DTSTART:20200619T110000
DTEND:20200619T123000
UID:2026-04-22-10-09-30-0-@calendar.boell.de
DTSTAMP:20260422T080930
DESCRIPTION:▶ Siehe Veranstaltungsbeschreibung – Hamburg – Landesstif
 tung Hamburg
END:VEVENT
END:VCALENDAR
