BEGIN:VCALENDAR
VERSION:2.0
PRODID:-//ZContent.net//ZapCalLib 1.0//EN
CALSCALE:GREGORIAN
METHOD:PUBLISH
BEGIN:VEVENT
SUMMARY:Sichere Herkunftsländer? | Aus unserer Reihe: Dahin, wo der Pfeffe
 r wächst ... 
DTSTART:20200603T110000
DTEND:20200603T121500
UID:2021-12-02-04-32-03-0-@calendar.boell.de
DTSTAMP:20211202T033203
DESCRIPTION:▶ Siehe Veranstaltungsbeschreibung – Hamburg – Landesstif
 tung Hamburg
END:VEVENT
END:VCALENDAR
