BEGIN:VCALENDAR
VERSION:2.0
PRODID:-//ZContent.net//ZapCalLib 1.0//EN
CALSCALE:GREGORIAN
METHOD:PUBLISH
BEGIN:VEVENT
SUMMARY:Von der Gefahrenabwehr zur Regeldurchsetzung | Online-Gespräch zu 
 Polizei und Polizieren in Corona-Zeiten
DTSTART:20200514T170000
DTEND:20200514T183000
UID:2026-04-21-11-36-03-0-@calendar.boell.de
DTSTAMP:20260421T093603
DESCRIPTION:▶ Siehe Veranstaltungsbeschreibung – Landesstiftung Hamburg
END:VEVENT
END:VCALENDAR
