BEGIN:VCALENDAR
VERSION:2.0
PRODID:-//ZContent.net//ZapCalLib 1.0//EN
CALSCALE:GREGORIAN
METHOD:PUBLISH
BEGIN:VEVENT
SUMMARY:EINLEBEN | Workshop 1x90 Minuten  | EINLEBEN ist ein webbasiertes d
 igitales Lern- und Erfahrungsspiel 
DTSTART:20200512T180000
DTEND:20200512T193000
UID:2021-12-02-04-13-59-0-@calendar.boell.de
DTSTAMP:20211202T031359
DESCRIPTION:▶ Siehe Veranstaltungsbeschreibung – Landesstiftung Nieders
 achsen (Leben & Umwelt)
END:VEVENT
END:VCALENDAR
