BEGIN:VCALENDAR
VERSION:2.0
PRODID:-//ZContent.net//ZapCalLib 1.0//EN
CALSCALE:GREGORIAN
METHOD:PUBLISH
BEGIN:VEVENT
SUMMARY:Hinter der Maske: Bosnien-Herzegowina  | Aus unserer Reihe: Hinter 
 der Make - Europa in Zeiten von Corona 
DTSTART:20200512T170000
DTEND:20200512T180000
UID:2021-12-02-04-27-45-0-@calendar.boell.de
DTSTAMP:20211202T032745
DESCRIPTION:▶ Online-Veranstaltung – Landesstiftung Hamburg
END:VEVENT
END:VCALENDAR
