BEGIN:VCALENDAR
VERSION:2.0
PRODID:-//ZContent.net//ZapCalLib 1.0//EN
CALSCALE:GREGORIAN
METHOD:PUBLISH
BEGIN:VEVENT
SUMMARY:Online-Seminar: Argumentieren gegen rechts | Zweiteiliges Online-Se
 minar mit Michael Trube & Bienz Hammer, GEGENARGUMENT
DTSTART:20200508T163000
DTEND:20200508T180000
UID:2026-04-21-04-05-47-0-@calendar.boell.de
DTSTAMP:20260421T020547
DESCRIPTION:▶ Siehe Veranstaltungsbeschreibung – Landesstiftung Branden
 burg
END:VEVENT
BEGIN:VEVENT
SUMMARY:Online-Seminar: Argumentieren gegen rechts | Zweiteiliges Online-Se
 minar mit Michael Trube & Bienz Hammer, GEGENARGUMENT
DTSTART:20200512T183000
DTEND:20200512T200000
UID:2026-04-21-02-05-47-1-@calendar.boell.de
DTSTAMP:20260421T020547
DESCRIPTION:▶ Siehe Veranstaltungsbeschreibung – Landesstiftung Branden
 burg
END:VEVENT
END:VCALENDAR
