BEGIN:VCALENDAR
VERSION:2.0
PRODID:-//ZContent.net//ZapCalLib 1.0//EN
CALSCALE:GREGORIAN
METHOD:PUBLISH
BEGIN:VEVENT
SUMMARY:Gegenwärtige Kriegsökonomien zwischen Konflikt und Kapitalismus |
  Economies at War II – eine Veranstaltung in interaktivem online-Format
DTSTART:20200527T190000
DTEND:20200527T210000
UID:2021-12-02-04-27-50-0-@calendar.boell.de
DTSTAMP:20211202T032750
DESCRIPTION:▶ Siehe Veranstaltungsbeschreibung – Landesstiftung Berlin 
 (Bildungswerk)
END:VEVENT
END:VCALENDAR
