BEGIN:VCALENDAR
VERSION:2.0
PRODID:-//ZContent.net//ZapCalLib 1.0//EN
CALSCALE:GREGORIAN
METHOD:PUBLISH
BEGIN:VEVENT
SUMMARY:Online-Seminar: Effektive Social Media für Engagierte – Facebook
  und Instagram
DTSTART:20200613T100000
DTEND:20200613T150000
UID:2026-04-22-02-51-02-0-@calendar.boell.de
DTSTAMP:20260422T005102
DESCRIPTION:▶ Online-Veranstaltung – Landesstiftung Sachsen-Anhalt
END:VEVENT
END:VCALENDAR
