BEGIN:VCALENDAR
VERSION:2.0
PRODID:-//ZContent.net//ZapCalLib 1.0//EN
CALSCALE:GREGORIAN
METHOD:PUBLISH
BEGIN:VEVENT
SUMMARY:Online-Seminar: Effektive Social Media für Engagierte – Facebook
  und Instagram
DTSTART:20200516T100000
DTEND:20200516T150000
UID:2026-04-21-10-10-07-0-@calendar.boell.de
DTSTAMP:20260421T081007
DESCRIPTION:▶ Online-Veranstaltung – Landesstiftung Sachsen-Anhalt
END:VEVENT
END:VCALENDAR
