BEGIN:VCALENDAR
VERSION:2.0
PRODID:-//ZContent.net//ZapCalLib 1.0//EN
CALSCALE:GREGORIAN
METHOD:PUBLISH
BEGIN:VEVENT
SUMMARY:Menschenrechtsverbrechen in Textilfabriken  | Rana Plaza und die Fo
 lgen
DTSTART:20200424T150000
DTEND:20200424T173000
UID:2026-04-20-23-42-33-0-@calendar.boell.de
DTSTAMP:20260420T214233
DESCRIPTION:▶ Online-Veranstaltung – Stiftung Leben & Umwelt / Heinrich
 -Böll-Stiftung Niedersachsen
END:VEVENT
END:VCALENDAR
