BEGIN:VCALENDAR
VERSION:2.0
PRODID:-//ZContent.net//ZapCalLib 1.0//EN
CALSCALE:GREGORIAN
METHOD:PUBLISH
BEGIN:VEVENT
SUMMARY:Effektive Pressearbeit (ausgebucht)
DTSTART:20200420T170000
DTEND:20200420T183000
UID:2026-04-23-19-52-30-0-@calendar.boell.de
DTSTAMP:20260423T175230
DESCRIPTION:▶ Online-Veranstaltung – Heinrich Böll Stiftung Baden-Wür
 ttemberg
END:VEVENT
BEGIN:VEVENT
SUMMARY:Effektive Pressearbeit (ausgebucht)
DTSTART:20200423T170000
DTEND:20200423T183000
UID:2026-04-23-17-52-30-1-@calendar.boell.de
DTSTAMP:20260423T175230
DESCRIPTION:▶ Online-Veranstaltung – Heinrich Böll Stiftung Baden-Wür
 ttemberg
END:VEVENT
END:VCALENDAR
