BEGIN:VCALENDAR
VERSION:2.0
PRODID:-//ZContent.net//ZapCalLib 1.0//EN
CALSCALE:GREGORIAN
METHOD:PUBLISH
BEGIN:VEVENT
SUMMARY:Maja Göpel: Stabilisieren oder Neuaufbau? Die richtigen Antwort au
 f die Wirtschaftskrise | Online-Vortrag und -Debatte in englischer Sprache
DTSTART:20200414T190000
DTEND:20200414T200000
UID:2021-12-02-04-27-59-0-@calendar.boell.de
DTSTAMP:20211202T032759
DESCRIPTION:▶ Online-Veranstaltung – Externe Veranstaltung
END:VEVENT
END:VCALENDAR
