BEGIN:VCALENDAR
VERSION:2.0
PRODID:-//ZContent.net//ZapCalLib 1.0//EN
CALSCALE:GREGORIAN
METHOD:PUBLISH
BEGIN:VEVENT
SUMMARY:AUSGEBUCHT! Online gehen statt absagen - wie rette ich meine Präse
 nzveranstaltung? | Online-Seminar für NGOs und Engagierte, 24.04.2020
DTSTART:20200424T090000
DTEND:20200424T100000
UID:2026-04-20-20-09-10-0-@calendar.boell.de
DTSTAMP:20260420T180910
DESCRIPTION:▶ Siehe Veranstaltungsbeschreibung – 
END:VEVENT
END:VCALENDAR
