BEGIN:VCALENDAR
VERSION:2.0
PRODID:-//ZContent.net//ZapCalLib 1.0//EN
CALSCALE:GREGORIAN
METHOD:PUBLISH
BEGIN:VEVENT
SUMMARY:AUSGEBUCHT! Online gehen statt absagen -Wie rette ich meine Präsen
 zveranstaltung? | Online-Seminar für NGOs und Engagierte, 23.04.2020 
DTSTART:20200423T090000
DTEND:20200423T100000
UID:2026-04-21-05-48-51-0-@calendar.boell.de
DTSTAMP:20260421T034851
DESCRIPTION:▶ Siehe Veranstaltungsbeschreibung – Landesstiftung Thürin
 gen
END:VEVENT
END:VCALENDAR
