BEGIN:VCALENDAR
VERSION:2.0
PRODID:-//ZContent.net//ZapCalLib 1.0//EN
CALSCALE:GREGORIAN
METHOD:PUBLISH
BEGIN:VEVENT
SUMMARY:Moderation im Kontext rechter und rassistischer Positionen | Neutra
 l sein gibt es nicht
DTSTART:20200627T100000
DTEND:20200628T170000
UID:2026-04-22-06-26-40-0-@calendar.boell.de
DTSTAMP:20260422T042640
DESCRIPTION:▶ Siehe Veranstaltungsbeschreibung – Berlin – Landesstift
 ung Berlin (Bildungswerk)
END:VEVENT
END:VCALENDAR
