BEGIN:VCALENDAR
VERSION:2.0
PRODID:-//ZContent.net//ZapCalLib 1.0//EN
CALSCALE:GREGORIAN
METHOD:PUBLISH
BEGIN:VEVENT
SUMMARY:Pressearbeit für NGOs und Initiativen | Raus aus der digitalen Bla
 se mit guter Pressearbeit
DTSTART:20200607T100000
DTEND:20200607T173000
UID:2026-04-22-10-09-15-0-@calendar.boell.de
DTSTAMP:20260422T080915
DESCRIPTION:▶ Siehe Veranstaltungsbeschreibung – Berlin – Landesstift
 ung Berlin (Bildungswerk)
END:VEVENT
END:VCALENDAR
