BEGIN:VCALENDAR
VERSION:2.0
PRODID:-//ZContent.net//ZapCalLib 1.0//EN
CALSCALE:GREGORIAN
METHOD:PUBLISH
BEGIN:VEVENT
SUMMARY:Stadtspaziergang: Auf der Spur der Menschenrechte über die Rote In
 sel
DTSTART:20200607T140000
DTEND:20200607T161500
UID:2026-04-22-11-40-23-0-@calendar.boell.de
DTSTAMP:20260422T094023
DESCRIPTION:▶ Siehe Veranstaltungsbeschreibung – Landesstiftung Berlin 
 (Bildungswerk)
END:VEVENT
END:VCALENDAR
